BEGIN:VCALENDAR
VERSION:2.0
PRODID:-//Julesburg Drag Racing - ECPv6.15.19//NONSGML v1.0//EN
CALSCALE:GREGORIAN
METHOD:PUBLISH
X-ORIGINAL-URL:https://julesburgdragracing.com
X-WR-CALDESC:Events for Julesburg Drag Racing
REFRESH-INTERVAL;VALUE=DURATION:PT1H
X-Robots-Tag:noindex
X-PUBLISHED-TTL:PT1H
BEGIN:VTIMEZONE
TZID:America/Denver
BEGIN:DAYLIGHT
TZOFFSETFROM:-0700
TZOFFSETTO:-0600
TZNAME:MDT
DTSTART:20250309T090000
END:DAYLIGHT
BEGIN:STANDARD
TZOFFSETFROM:-0600
TZOFFSETTO:-0700
TZNAME:MST
DTSTART:20251102T080000
END:STANDARD
BEGIN:DAYLIGHT
TZOFFSETFROM:-0700
TZOFFSETTO:-0600
TZNAME:MDT
DTSTART:20260308T090000
END:DAYLIGHT
BEGIN:STANDARD
TZOFFSETFROM:-0600
TZOFFSETTO:-0700
TZNAME:MST
DTSTART:20261101T080000
END:STANDARD
BEGIN:DAYLIGHT
TZOFFSETFROM:-0700
TZOFFSETTO:-0600
TZNAME:MDT
DTSTART:20270314T090000
END:DAYLIGHT
BEGIN:STANDARD
TZOFFSETFROM:-0600
TZOFFSETTO:-0700
TZNAME:MST
DTSTART:20271107T080000
END:STANDARD
END:VTIMEZONE
BEGIN:VEVENT
DTSTART;TZID=America/Denver:20260621T080000
DTEND;TZID=America/Denver:20260621T170000
DTSTAMP:20260424T080018
CREATED:20260304T181208Z
LAST-MODIFIED:20260304T181208Z
UID:11259-1782028800-1782061200@julesburgdragracing.com
SUMMARY:Double Down Weekend ET Points Race #5 Double Points and Payouts
DESCRIPTION:
URL:https://julesburgdragracing.com/event/double-down-weekend-et-points-race-5-double-points-and-payouts/
LOCATION:Julesburg Drag Strip\, 17454 US-138\, Julesburg\, CO\, 80737\, United States
CATEGORIES:ET Series
END:VEVENT
BEGIN:VEVENT
DTSTART;TZID=America/Denver:20260705T080000
DTEND;TZID=America/Denver:20260705T170000
DTSTAMP:20260424T080018
CREATED:20260304T201744Z
LAST-MODIFIED:20260304T201744Z
UID:11288-1783238400-1783270800@julesburgdragracing.com
SUMMARY:NHRA TV Challenge Wally Race ET Points Race #6 + RMSS $100 Entry $5K pure Wally Per Class
DESCRIPTION:
URL:https://julesburgdragracing.com/event/nhra-tv-challenge-wally-race-et-points-race-6-rmss-100-entry-5k-pure-wally-per-class/
LOCATION:Julesburg Drag Strip\, 17454 US-138\, Julesburg\, CO\, 80737\, United States
CATEGORIES:ET Series,Special
ORGANIZER;CN="JCK Corporation":MAILTO:sales@jckcorporation.com
END:VEVENT
BEGIN:VEVENT
DTSTART;TZID=America/Denver:20260726T080000
DTEND;TZID=America/Denver:20260726T170000
DTSTAMP:20260424T080018
CREATED:20260304T203137Z
LAST-MODIFIED:20260304T203137Z
UID:11304-1785052800-1785085200@julesburgdragracing.com
SUMMARY:ET Series Points Race #7 (No Jrs)
DESCRIPTION:
URL:https://julesburgdragracing.com/event/et-series-points-race-7-no-jrs/
LOCATION:Julesburg Drag Strip\, 17454 US-138\, Julesburg\, CO\, 80737\, United States
CATEGORIES:ET Series
END:VEVENT
BEGIN:VEVENT
DTSTART;TZID=America/Denver:20260802T080000
DTEND;TZID=America/Denver:20260802T170000
DTSTAMP:20260424T080018
CREATED:20260304T204703Z
LAST-MODIFIED:20260304T204703Z
UID:11326-1785657600-1785690000@julesburgdragracing.com
SUMMARY:ET Points Race #8 (No Jrs)
DESCRIPTION:
URL:https://julesburgdragracing.com/event/et-points-race-8-no-jrs/
LOCATION:Julesburg Drag Strip\, 17454 US-138\, Julesburg\, CO\, 80737\, United States
CATEGORIES:ET Series
ORGANIZER;CN="Super Green Heating & Cooling":MAILTO:Gregory@callsupergreen.com
END:VEVENT
BEGIN:VEVENT
DTSTART;TZID=America/Denver:20260830T080000
DTEND;TZID=America/Denver:20260830T170000
DTSTAMP:20260424T080018
CREATED:20260304T215930Z
LAST-MODIFIED:20260304T215930Z
UID:11352-1788076800-1788109200@julesburgdragracing.com
SUMMARY:ET Points Race #9
DESCRIPTION:
URL:https://julesburgdragracing.com/event/et-points-race-9/
LOCATION:Julesburg Drag Strip\, 17454 US-138\, Julesburg\, CO\, 80737\, United States
CATEGORIES:ET Series
END:VEVENT
BEGIN:VEVENT
DTSTART;TZID=America/Denver:20260920T080000
DTEND;TZID=America/Denver:20260920T170000
DTSTAMP:20260424T080018
CREATED:20260304T222045Z
LAST-MODIFIED:20260304T222045Z
UID:11374-1789891200-1789923600@julesburgdragracing.com
SUMMARY:ET Points Race #10
DESCRIPTION:
URL:https://julesburgdragracing.com/event/et-points-race-10/
LOCATION:Julesburg Drag Strip\, 17454 US-138\, Julesburg\, CO\, 80737\, United States
CATEGORIES:ET Series
END:VEVENT
END:VCALENDAR