BEGIN:VCALENDAR
VERSION:2.0
PRODID:-//Julesburg Drag Racing - ECPv6.15.19//NONSGML v1.0//EN
CALSCALE:GREGORIAN
METHOD:PUBLISH
X-ORIGINAL-URL:https://julesburgdragracing.com
X-WR-CALDESC:Events for Julesburg Drag Racing
REFRESH-INTERVAL;VALUE=DURATION:PT1H
X-Robots-Tag:noindex
X-PUBLISHED-TTL:PT1H
BEGIN:VTIMEZONE
TZID:America/Denver
BEGIN:DAYLIGHT
TZOFFSETFROM:-0700
TZOFFSETTO:-0600
TZNAME:MDT
DTSTART:20240310T090000
END:DAYLIGHT
BEGIN:STANDARD
TZOFFSETFROM:-0600
TZOFFSETTO:-0700
TZNAME:MST
DTSTART:20241103T080000
END:STANDARD
BEGIN:DAYLIGHT
TZOFFSETFROM:-0700
TZOFFSETTO:-0600
TZNAME:MDT
DTSTART:20250309T090000
END:DAYLIGHT
BEGIN:STANDARD
TZOFFSETFROM:-0600
TZOFFSETTO:-0700
TZNAME:MST
DTSTART:20251102T080000
END:STANDARD
BEGIN:DAYLIGHT
TZOFFSETFROM:-0700
TZOFFSETTO:-0600
TZNAME:MDT
DTSTART:20260308T090000
END:DAYLIGHT
BEGIN:STANDARD
TZOFFSETFROM:-0600
TZOFFSETTO:-0700
TZNAME:MST
DTSTART:20261101T080000
END:STANDARD
END:VTIMEZONE
BEGIN:VEVENT
DTSTART;TZID=America/Denver:20250907T090000
DTEND;TZID=America/Denver:20250907T180000
DTSTAMP:20260424T190555
CREATED:20250413T204723Z
LAST-MODIFIED:20250417T211603Z
UID:10527-1757235600-1757268000@julesburgdragracing.com
SUMMARY:FINAL ET Point Series #9
DESCRIPTION:
URL:https://julesburgdragracing.com/event/final-et-point-series-9/
LOCATION:Julesburg Drag Strip\, 17454 US-138\, Julesburg\, CO\, 80737\, United States
CATEGORIES:ET Series
ATTACH;FMTTYPE=image/jpeg:https://julesburgdragracing.com/wp-content/uploads/2025/03/480963106_10160647066996510_232054877434204641_n.jpg
END:VEVENT
BEGIN:VEVENT
DTSTART;TZID=America/Denver:20250803T090000
DTEND;TZID=America/Denver:20250803T180000
DTSTAMP:20260424T190555
CREATED:20250413T203940Z
LAST-MODIFIED:20250417T212556Z
UID:10515-1754211600-1754244000@julesburgdragracing.com
SUMMARY:ET Point Series #8
DESCRIPTION:
URL:https://julesburgdragracing.com/event/et-point-series-8/
LOCATION:Julesburg Drag Strip\, 17454 US-138\, Julesburg\, CO\, 80737\, United States
CATEGORIES:ET Series
ATTACH;FMTTYPE=image/jpeg:https://julesburgdragracing.com/wp-content/uploads/2025/03/480963106_10160647066996510_232054877434204641_n.jpg
END:VEVENT
BEGIN:VEVENT
DTSTART;TZID=America/Denver:20250727T090000
DTEND;TZID=America/Denver:20250727T180000
DTSTAMP:20260424T190555
CREATED:20250413T203700Z
LAST-MODIFIED:20250417T213321Z
UID:10511-1753606800-1753639200@julesburgdragracing.com
SUMMARY:ET Point Series #7
DESCRIPTION:
URL:https://julesburgdragracing.com/event/et-point-series-7/
LOCATION:Julesburg Drag Strip\, 17454 US-138\, Julesburg\, CO\, 80737\, United States
CATEGORIES:ET Series
ATTACH;FMTTYPE=image/jpeg:https://julesburgdragracing.com/wp-content/uploads/2025/03/480963106_10160647066996510_232054877434204641_n.jpg
END:VEVENT
BEGIN:VEVENT
DTSTART;TZID=America/Denver:20250712T090000
DTEND;TZID=America/Denver:20250712T180000
DTSTAMP:20260424T190555
CREATED:20250413T204215Z
LAST-MODIFIED:20250417T214413Z
UID:10519-1752310800-1752343200@julesburgdragracing.com
SUMMARY:ET Finals Wally Race
DESCRIPTION:
URL:https://julesburgdragracing.com/event/et-finals-wally-race/
LOCATION:Julesburg Drag Strip\, 17454 US-138\, Julesburg\, CO\, 80737\, United States
CATEGORIES:ET Series
ATTACH;FMTTYPE=image/jpeg:https://julesburgdragracing.com/wp-content/uploads/2025/03/480963106_10160647066996510_232054877434204641_n.jpg
END:VEVENT
BEGIN:VEVENT
DTSTART;TZID=America/Denver:20250629T090000
DTEND;TZID=America/Denver:20250629T180000
DTSTAMP:20260424T190555
CREATED:20250413T203210Z
LAST-MODIFIED:20250418T140931Z
UID:10507-1751187600-1751220000@julesburgdragracing.com
SUMMARY:ET Series #6
DESCRIPTION:
URL:https://julesburgdragracing.com/event/et-series-6/
LOCATION:Julesburg Drag Strip\, 17454 US-138\, Julesburg\, CO\, 80737\, United States
CATEGORIES:ET Series
ATTACH;FMTTYPE=image/jpeg:https://julesburgdragracing.com/wp-content/uploads/2025/03/480963106_10160647066996510_232054877434204641_n.jpg
END:VEVENT
BEGIN:VEVENT
DTSTART;TZID=America/Denver:20250615T090000
DTEND;TZID=America/Denver:20250615T180000
DTSTAMP:20260424T190555
CREATED:20250413T204500Z
LAST-MODIFIED:20250418T141645Z
UID:10523-1749978000-1750010400@julesburgdragracing.com
SUMMARY:(NO JRS) NHRA TV Challenge Wally Race
DESCRIPTION:
URL:https://julesburgdragracing.com/event/no-jrs-nhra-tv-challenge-wally-race/
LOCATION:Julesburg Drag Strip\, 17454 US-138\, Julesburg\, CO\, 80737\, United States
CATEGORIES:ET Series
ATTACH;FMTTYPE=image/jpeg:https://julesburgdragracing.com/wp-content/uploads/2025/03/480963106_10160647066996510_232054877434204641_n.jpg
END:VEVENT
BEGIN:VEVENT
DTSTART;TZID=America/Denver:20250615T090000
DTEND;TZID=America/Denver:20250615T180000
DTSTAMP:20260424T190555
CREATED:20250413T202945Z
LAST-MODIFIED:20250418T141822Z
UID:10503-1749978000-1750010400@julesburgdragracing.com
SUMMARY:ET Series #5
DESCRIPTION:
URL:https://julesburgdragracing.com/event/et-series-5/
LOCATION:Julesburg Drag Strip\, 17454 US-138\, Julesburg\, CO\, 80737\, United States
CATEGORIES:ET Series
ATTACH;FMTTYPE=image/jpeg:https://julesburgdragracing.com/wp-content/uploads/2025/03/480963106_10160647066996510_232054877434204641_n.jpg
END:VEVENT
BEGIN:VEVENT
DTSTART;TZID=America/Denver:20250608T090000
DTEND;TZID=America/Denver:20250608T180000
DTSTAMP:20260424T190555
CREATED:20250413T202607Z
LAST-MODIFIED:20250418T142151Z
UID:10499-1749373200-1749405600@julesburgdragracing.com
SUMMARY:ET Series #4
DESCRIPTION:
URL:https://julesburgdragracing.com/event/et-series-4/
LOCATION:Julesburg Drag Strip\, 17454 US-138\, Julesburg\, CO\, 80737\, United States
CATEGORIES:ET Series
ATTACH;FMTTYPE=image/jpeg:https://julesburgdragracing.com/wp-content/uploads/2025/03/480963106_10160647066996510_232054877434204641_n.jpg
END:VEVENT
BEGIN:VEVENT
DTSTART;TZID=America/Denver:20250518T090000
DTEND;TZID=America/Denver:20250518T180000
DTSTAMP:20260424T190555
CREATED:20250413T202407Z
LAST-MODIFIED:20250418T143450Z
UID:10495-1747558800-1747591200@julesburgdragracing.com
SUMMARY:ET Series #3
DESCRIPTION:
URL:https://julesburgdragracing.com/event/et-series-3/
LOCATION:Julesburg Drag Strip\, 17454 US-138\, Julesburg\, CO\, 80737\, United States
CATEGORIES:ET Series
ATTACH;FMTTYPE=image/jpeg:https://julesburgdragracing.com/wp-content/uploads/2025/03/480963106_10160647066996510_232054877434204641_n.jpg
END:VEVENT
BEGIN:VEVENT
DTSTART;TZID=America/Denver:20250504T090000
DTEND;TZID=America/Denver:20250504T180000
DTSTAMP:20260424T190555
CREATED:20250413T202153Z
LAST-MODIFIED:20250418T173347Z
UID:10491-1746349200-1746381600@julesburgdragracing.com
SUMMARY:ET Series #2
DESCRIPTION:
URL:https://julesburgdragracing.com/event/et-series-2/
LOCATION:Julesburg Drag Strip\, 17454 US-138\, Julesburg\, CO\, 80737\, United States
CATEGORIES:ET Series
ATTACH;FMTTYPE=image/jpeg:https://julesburgdragracing.com/wp-content/uploads/2025/03/480963106_10160647066996510_232054877434204641_n.jpg
END:VEVENT
BEGIN:VEVENT
DTSTART;TZID=America/Denver:20250427T090000
DTEND;TZID=America/Denver:20250427T180000
DTSTAMP:20260424T190555
CREATED:20250413T193038Z
LAST-MODIFIED:20250418T143953Z
UID:10415-1745744400-1745776800@julesburgdragracing.com
SUMMARY:ET Series #1
DESCRIPTION:
URL:https://julesburgdragracing.com/event/et-series-1/
LOCATION:Julesburg Drag Strip\, 17454 US-138\, Julesburg\, CO\, 80737\, United States
CATEGORIES:ET Series
ATTACH;FMTTYPE=image/jpeg:https://julesburgdragracing.com/wp-content/uploads/2025/03/480963106_10160647066996510_232054877434204641_n.jpg
END:VEVENT
END:VCALENDAR